BEGIN:VCALENDAR
VERSION:2.0
PRODID:-//ChamberMaster//Event Calendar 2.0//EN
METHOD:PUBLISH
X-PUBLISHED-TTL:P1H
REFRESH-INTERVAL:P1H
CALSCALE:GREGORIAN
BEGIN:VTIMEZONE
TZID:America/New_York
BEGIN:DAYLIGHT
RRULE:FREQ=YEARLY;BYMONTH=3;BYDAY=2SU
DTSTART:20070101T000000
TZOFFSETFROM:-0500
TZOFFSETTO:-0400
TZNAME:Eastern Daylight Time
END:DAYLIGHT
BEGIN:STANDARD
RRULE:FREQ=YEARLY;BYMONTH=11;BYDAY=1SU
DTSTART:20070101T000000
TZOFFSETFROM:-0400
TZOFFSETTO:-0500
TZNAME:Eastern Standard Time
END:STANDARD
END:VTIMEZONE
BEGIN:VEVENT
DTSTART;TZID=America/New_York:20260507T120000
DTEND;TZID=America/New_York:20260507T130000
X-MICROSOFT-CDO-ALLDAYEVENT:FALSE
SUMMARY:Community Prayer Gathering
DESCRIPTION:Join the Vermilion community for a meaningful moment of reflection and unity at the National Day of Prayer Community Prayer Gathering. 🌿\n📅 Thursday\, May 7\, 2026\n🕛 12:00 PM\n📍 Victory Park\, Downtown Vermilion\nAll are welcome to come together in prayer for our community\, leaders\, and nation. \nHosted by the Vermilion Ministerial Association and Vermilion Chamber of Commerce.
X-ALT-DESC;FMTTYPE=text/html:Join the Vermilion community for a meaningful moment of reflection and unity at the National Day of Prayer Community Prayer Gathering. 🌿\n📅 Thursday\, May 7\, 2026\n🕛 12:00 PM\n📍 Victory Park\, Downtown Vermilion\nAll are welcome to come together in prayer for our community\, leaders\, and nation. \nHosted by the Vermilion Ministerial Association and Vermilion Chamber of Commerce.
LOCATION:Corner of Main and Ohio Street Vermilion OH 44089
UID:e.1862.1451059
SEQUENCE:3
DTSTAMP:20260425T013152Z
URL:https://members.vermilionohio.com/event-calendar/Details/community-prayer-gathering-1718792?sourceTypeId=Hub
END:VEVENT
END:VCALENDAR
