BEGIN:VCALENDAR
VERSION:2.0
PRODID:-//ChamberMaster//Event Calendar 2.0//EN
METHOD:PUBLISH
X-PUBLISHED-TTL:P1H
REFRESH-INTERVAL:P1H
CALSCALE:GREGORIAN
BEGIN:VTIMEZONE
TZID:America/New_York
BEGIN:DAYLIGHT
RRULE:FREQ=YEARLY;BYMONTH=3;BYDAY=2SU
DTSTART:20070101T000000
TZOFFSETFROM:-0500
TZOFFSETTO:-0400
TZNAME:Eastern Daylight Time
END:DAYLIGHT
BEGIN:STANDARD
RRULE:FREQ=YEARLY;BYMONTH=11;BYDAY=1SU
DTSTART:20070101T000000
TZOFFSETFROM:-0400
TZOFFSETTO:-0500
TZNAME:Eastern Standard Time
END:STANDARD
END:VTIMEZONE
BEGIN:VEVENT
DTSTART;TZID=America/New_York:20260523T100000
DTEND;TZID=America/New_York:20260523T180000
X-MICROSOFT-CDO-ALLDAYEVENT:FALSE
SUMMARY:Vermilion Merchant Sidewalk Sale
DESCRIPTION:Vermilion’s sidewalks are coming to life Memorial Weekend! 🇺🇸 \nJoin us Saturday\, May 23 from 10 AM to 6 PM for the Vermilion Merchant Sidewalk Sale. Merchants throughout town will be bringing the deals outside with can’t-miss finds\, seasonal specials\, and plenty of reasons to shop\, dine\, and stroll.\nAre you a Vermilion merchant planning to participate? Let us know and we will make sure to include and tag your business in our event posts and flyer. Email the Vermilion Chamber at info@vermilionohio.com to be included.\nRed\, white\, and BUY…you won’t want to miss this one. 🇺🇸
X-ALT-DESC;FMTTYPE=text/html:Vermilion’s sidewalks are coming to life Memorial Weekend! 🇺🇸 \nJoin us Saturday\, May 23 from 10 AM to 6 PM for the Vermilion Merchant Sidewalk Sale. Merchants throughout town will be bringing the deals outside with can’t-miss finds\, seasonal specials\, and plenty of reasons to shop\, dine\, and stroll.\nAre you a Vermilion merchant planning to participate? Let us know and we will make sure to include and tag your business in our event posts and flyer. Email the Vermilion Chamber at info@vermilionohio.com to be included.\nRed\, white\, and BUY…you won’t want to miss this one. 🇺🇸
LOCATION:
UID:e.1862.1451094
SEQUENCE:3
DTSTAMP:20260425T011510Z
URL:https://members.vermilionohio.com/event-calendar/Details/vermilion-merchant-sidewalk-sale-1718826?sourceTypeId=Hub
END:VEVENT
END:VCALENDAR
